BEGIN:VCALENDAR
VERSION:2.0
PRODID:-//SSOC - ECPv6.15.20//NONSGML v1.0//EN
CALSCALE:GREGORIAN
METHOD:PUBLISH
X-WR-CALNAME:SSOC
X-ORIGINAL-URL:https://ssoc.se
X-WR-CALDESC:Händelser för SSOC
REFRESH-INTERVAL;VALUE=DURATION:PT1H
X-Robots-Tag:noindex
X-PUBLISHED-TTL:PT1H
BEGIN:VTIMEZONE
TZID:Europe/Stockholm
BEGIN:DAYLIGHT
TZOFFSETFROM:+0100
TZOFFSETTO:+0200
TZNAME:CEST
DTSTART:20160327T010000
END:DAYLIGHT
BEGIN:STANDARD
TZOFFSETFROM:+0200
TZOFFSETTO:+0100
TZNAME:CET
DTSTART:20161030T010000
END:STANDARD
BEGIN:DAYLIGHT
TZOFFSETFROM:+0100
TZOFFSETTO:+0200
TZNAME:CEST
DTSTART:20170326T010000
END:DAYLIGHT
BEGIN:STANDARD
TZOFFSETFROM:+0200
TZOFFSETTO:+0100
TZNAME:CET
DTSTART:20171029T010000
END:STANDARD
BEGIN:DAYLIGHT
TZOFFSETFROM:+0100
TZOFFSETTO:+0200
TZNAME:CEST
DTSTART:20180325T010000
END:DAYLIGHT
BEGIN:STANDARD
TZOFFSETFROM:+0200
TZOFFSETTO:+0100
TZNAME:CET
DTSTART:20181028T010000
END:STANDARD
END:VTIMEZONE
BEGIN:VEVENT
DTSTART;VALUE=DATE:20170602
DTEND;VALUE=DATE:20170607
DTSTAMP:20260423T192411
CREATED:20170529T100458Z
LAST-MODIFIED:20170529T100939Z
UID:1771-1496361600-1496793599@ssoc.se
SUMMARY:Strömsholmsdagarna 2017
DESCRIPTION:SSOC medlemmar utan tävlande häst får fri entré\, fri parkering\, tillgång till Riders Lounge. Band hämtas i ackrediteringen.
URL:https://ssoc.se/event/stromsholmsdagarna-2017/
LOCATION:Strömsholm\, Stallbacken 6\, Strömsholm\, 734 94\, Sverige
CATEGORIES:Tävling
ATTACH;FMTTYPE=image/jpeg:https://ssoc.se/wp-content/uploads/niklasarvidsson-jonsving-800x533.jpg
ORGANIZER;CN="Str%C3%B6msholm":MAILTO:info@stromsholm.com
END:VEVENT
BEGIN:VEVENT
DTSTART;VALUE=DATE:20170608
DTEND;VALUE=DATE:20170612
DTSTAMP:20260423T192411
CREATED:20170516T221833Z
LAST-MODIFIED:20170607T212216Z
UID:1748-1496880000-1497225599@ssoc.se
SUMMARY:Grevlunda Grand Prix
DESCRIPTION:Fri entré och parkering. \nOBS. Peder kommer att bjuda oss på en guidad tur på sin anläggning under lördagen\, bl a deras nya ”skogsbana” – tid meddelas till alla anmälda. \nAnmälan till Astrid som brukligt.
URL:https://ssoc.se/event/grevlunda-grand-prix/
LOCATION:Grevlundagården\, Grevlundagården\, Vitaby\, 27736\, Sverige
CATEGORIES:Tävling
ATTACH;FMTTYPE=image/jpeg:https://ssoc.se/wp-content/uploads/startbanner2.jpg
END:VEVENT
BEGIN:VEVENT
DTSTART;VALUE=DATE:20170622
DTEND;VALUE=DATE:20170626
DTSTAMP:20260423T192411
CREATED:20170607T213830Z
LAST-MODIFIED:20170607T213830Z
UID:1790-1498089600-1498435199@ssoc.se
SUMMARY:Gothenburg Summer Tour
DESCRIPTION:Fri entré och parkering och VIP. Anmälan till Astrid senast den 16:e juni. Lista kommer att finnas i Accrediteringen.
URL:https://ssoc.se/event/gothenburg-summer-tour/
LOCATION:Åby Travbana\, Åbyvägen 2-12\, Göteborg\, 431 62\, Sverige
CATEGORIES:Tävling
ATTACH;FMTTYPE=image/jpeg:https://ssoc.se/wp-content/uploads/fjaras.jpg
ORGANIZER;CN="F%C3%B6reningen Fj%C3%A4r%C3%A5s Hoppryttare":MAILTO:gothenburgsummertour@gmail.com
END:VEVENT
END:VCALENDAR