BEGIN:VCALENDAR
VERSION:2.0
PRODID:-//SSOC - ECPv6.15.20//NONSGML v1.0//EN
CALSCALE:GREGORIAN
METHOD:PUBLISH
X-ORIGINAL-URL:https://ssoc.se
X-WR-CALDESC:Händelser för SSOC
REFRESH-INTERVAL;VALUE=DURATION:PT1H
X-Robots-Tag:noindex
X-PUBLISHED-TTL:PT1H
BEGIN:VTIMEZONE
TZID:Europe/Stockholm
BEGIN:DAYLIGHT
TZOFFSETFROM:+0100
TZOFFSETTO:+0200
TZNAME:CEST
DTSTART:20160327T010000
END:DAYLIGHT
BEGIN:STANDARD
TZOFFSETFROM:+0200
TZOFFSETTO:+0100
TZNAME:CET
DTSTART:20161030T010000
END:STANDARD
BEGIN:DAYLIGHT
TZOFFSETFROM:+0100
TZOFFSETTO:+0200
TZNAME:CEST
DTSTART:20170326T010000
END:DAYLIGHT
BEGIN:STANDARD
TZOFFSETFROM:+0200
TZOFFSETTO:+0100
TZNAME:CET
DTSTART:20171029T010000
END:STANDARD
BEGIN:DAYLIGHT
TZOFFSETFROM:+0100
TZOFFSETTO:+0200
TZNAME:CEST
DTSTART:20180325T010000
END:DAYLIGHT
BEGIN:STANDARD
TZOFFSETFROM:+0200
TZOFFSETTO:+0100
TZNAME:CET
DTSTART:20181028T010000
END:STANDARD
END:VTIMEZONE
BEGIN:VEVENT
DTSTART;VALUE=DATE:20170804
DTEND;VALUE=DATE:20170806
DTSTAMP:20260423T162229
CREATED:20170607T215016Z
LAST-MODIFIED:20170630T184418Z
UID:1800-1501804800-1501977599@ssoc.se
SUMMARY:Sundbyholm Summer Games
DESCRIPTION:Vecka 31 är det dags för Sundbyholm Summergames\, där bjuder Sundbyholm alla medlemmar i SSOC på lunch i VIP-tältet fredag 4/8 och lördag 5/8. \nAnmäl gärna till Astrid senast den 2:e juli.
URL:https://ssoc.se/event/sundbyholm-summer-games/
LOCATION:Sundbyholm\, Sundbyholms Travbana\, Eskilstuna\, 635 08\, Sverige
CATEGORIES:Tävling
ATTACH;FMTTYPE=image/png:https://ssoc.se/wp-content/uploads/Skärmklipp-2016-08-08-21.27.31.png
ORGANIZER;CN="Sundbyholms Horse Center":MAILTO:info@sundbyholmridsport.com
END:VEVENT
BEGIN:VEVENT
DTSTART;VALUE=DATE:20170817
DTEND;VALUE=DATE:20170821
DTSTAMP:20260423T162229
CREATED:20170529T102113Z
LAST-MODIFIED:20170703T121155Z
UID:1779-1502928000-1503273599@ssoc.se
SUMMARY:Runsten Equestrian
DESCRIPTION:Tävlingen genomförs på våra fina gräsbanor\, det finns även två stora fibersandbanor\, ridhus och terrängbana att tillgå. Här finns en restaurang med fullständiga rättigheter\, gästboende och möjlighet att stalla upp sin häst. Anläggningen ligger i ett område 3 mil söder om Stockholm city\, i närhet av bad\, golf och fantastisk natur. \nSom medlem i SSOC har ni fri parkering och entré. VIP-biljetter skickas innan tävlingen och anmälan måste därför göras SENAST DEN 8:e till Astrid. VIP lördag och söndag. \n 
URL:https://ssoc.se/event/runsten-equestrian/
LOCATION:Runsten\, Runstens Gård\, Grödinge\, 147 91\, Sverige
CATEGORIES:Tävling
ATTACH;FMTTYPE=image/jpeg:https://ssoc.se/wp-content/uploads/Pontus-1200x800.jpg
ORGANIZER;CN="Runsten Equestrian":MAILTO:info@runsten.com
END:VEVENT
BEGIN:VEVENT
DTSTART;VALUE=DATE:20170821
DTEND;VALUE=DATE:20170828
DTSTAMP:20260423T162229
CREATED:20170610T133217Z
LAST-MODIFIED:20170630T180833Z
UID:1815-1503273600-1503878399@ssoc.se
SUMMARY:FEI European Championship Gothenburg
DESCRIPTION:SSOC undersöker möjligheten att tillsammans med Ridsportförbundet och arrangören erbjuda Er medlemmar ett specialpris på VIP-biljetter eller liknande.\nMedlemmar kommer att få besked via mail så snart detta blir klart
URL:https://ssoc.se/event/fei-european-championship-gothenburg/
LOCATION:Ullevi\, Ullevigatan\, Göteborg\, 411 39\, Sverige
CATEGORIES:Tävling
ATTACH;FMTTYPE=image/jpeg:https://ssoc.se/wp-content/uploads/hopp_Achen-1440x850.jpg
ORGANIZER;CN="Got Event":MAILTO:INFO@GOTHENBURG2017.COM
END:VEVENT
BEGIN:VEVENT
DTSTART;TZID=Europe/Stockholm:20170831T080000
DTEND;TZID=Europe/Stockholm:20170903T170000
DTSTAMP:20260423T162229
CREATED:20170801T085134Z
LAST-MODIFIED:20170810T115152Z
UID:1866-1504166400-1504458000@ssoc.se
SUMMARY:Norrköping Autumn Horse Show
DESCRIPTION:Tävlingsledningen bjuder samtliga SSOC medlemmar på en fantastisk Lördagslunch den 2:e september. Vi samlas i Restaurangtältet vid 13.00 där bord är specialdukade för oss. Anmälan görs till Astrid senast på fredagen. \nLäs mer om klasserna och tävlingsprogrammet på arrangörens hemsida. \nEntré och parkering är fri denna helg.
URL:https://ssoc.se/event/norrkoping-autumn-horse-show/
LOCATION:Norrköping\, Jurslag Gård\, Åby\, 61634\, Sverige
CATEGORIES:Tävling
ATTACH;FMTTYPE=image/png:https://ssoc.se/wp-content/uploads/Skärmklipp-2017-08-01-10.47.53.png
ORGANIZER;CN="Norrk%C3%B6ping Int Horse Show":MAILTO:info@norrkopinghorseshow.se
END:VEVENT
END:VCALENDAR