BEGIN:VCALENDAR
VERSION:2.0
PRODID:-//SSOC - ECPv6.15.20//NONSGML v1.0//EN
CALSCALE:GREGORIAN
METHOD:PUBLISH
X-ORIGINAL-URL:https://ssoc.se
X-WR-CALDESC:Händelser för SSOC
REFRESH-INTERVAL;VALUE=DURATION:PT1H
X-Robots-Tag:noindex
X-PUBLISHED-TTL:PT1H
BEGIN:VTIMEZONE
TZID:Europe/Stockholm
BEGIN:DAYLIGHT
TZOFFSETFROM:+0100
TZOFFSETTO:+0200
TZNAME:CEST
DTSTART:20160327T010000
END:DAYLIGHT
BEGIN:STANDARD
TZOFFSETFROM:+0200
TZOFFSETTO:+0100
TZNAME:CET
DTSTART:20161030T010000
END:STANDARD
BEGIN:DAYLIGHT
TZOFFSETFROM:+0100
TZOFFSETTO:+0200
TZNAME:CEST
DTSTART:20170326T010000
END:DAYLIGHT
BEGIN:STANDARD
TZOFFSETFROM:+0200
TZOFFSETTO:+0100
TZNAME:CET
DTSTART:20171029T010000
END:STANDARD
BEGIN:DAYLIGHT
TZOFFSETFROM:+0100
TZOFFSETTO:+0200
TZNAME:CEST
DTSTART:20180325T010000
END:DAYLIGHT
BEGIN:STANDARD
TZOFFSETFROM:+0200
TZOFFSETTO:+0100
TZNAME:CET
DTSTART:20181028T010000
END:STANDARD
END:VTIMEZONE
BEGIN:VEVENT
DTSTART;TZID=Europe/Stockholm:20170831T080000
DTEND;TZID=Europe/Stockholm:20170903T170000
DTSTAMP:20260423T144154
CREATED:20170801T085134Z
LAST-MODIFIED:20170810T115152Z
UID:1866-1504166400-1504458000@ssoc.se
SUMMARY:Norrköping Autumn Horse Show
DESCRIPTION:Tävlingsledningen bjuder samtliga SSOC medlemmar på en fantastisk Lördagslunch den 2:e september. Vi samlas i Restaurangtältet vid 13.00 där bord är specialdukade för oss. Anmälan görs till Astrid senast på fredagen. \nLäs mer om klasserna och tävlingsprogrammet på arrangörens hemsida. \nEntré och parkering är fri denna helg.
URL:https://ssoc.se/event/norrkoping-autumn-horse-show/
LOCATION:Norrköping\, Jurslag Gård\, Åby\, 61634\, Sverige
CATEGORIES:Tävling
ATTACH;FMTTYPE=image/png:https://ssoc.se/wp-content/uploads/Skärmklipp-2017-08-01-10.47.53.png
ORGANIZER;CN="Norrk%C3%B6ping Int Horse Show":MAILTO:info@norrkopinghorseshow.se
END:VEVENT
END:VCALENDAR