BEGIN:VCALENDAR
VERSION:2.0
PRODID:-//SSOC - ECPv6.15.20//NONSGML v1.0//EN
CALSCALE:GREGORIAN
METHOD:PUBLISH
X-WR-CALNAME:SSOC
X-ORIGINAL-URL:https://ssoc.se
X-WR-CALDESC:Händelser för SSOC
REFRESH-INTERVAL;VALUE=DURATION:PT1H
X-Robots-Tag:noindex
X-PUBLISHED-TTL:PT1H
BEGIN:VTIMEZONE
TZID:Europe/Stockholm
BEGIN:DAYLIGHT
TZOFFSETFROM:+0100
TZOFFSETTO:+0200
TZNAME:CEST
DTSTART:20160327T010000
END:DAYLIGHT
BEGIN:STANDARD
TZOFFSETFROM:+0200
TZOFFSETTO:+0100
TZNAME:CET
DTSTART:20161030T010000
END:STANDARD
BEGIN:DAYLIGHT
TZOFFSETFROM:+0100
TZOFFSETTO:+0200
TZNAME:CEST
DTSTART:20170326T010000
END:DAYLIGHT
BEGIN:STANDARD
TZOFFSETFROM:+0200
TZOFFSETTO:+0100
TZNAME:CET
DTSTART:20171029T010000
END:STANDARD
BEGIN:DAYLIGHT
TZOFFSETFROM:+0100
TZOFFSETTO:+0200
TZNAME:CEST
DTSTART:20180325T010000
END:DAYLIGHT
BEGIN:STANDARD
TZOFFSETFROM:+0200
TZOFFSETTO:+0100
TZNAME:CET
DTSTART:20181028T010000
END:STANDARD
END:VTIMEZONE
BEGIN:VEVENT
DTSTART;VALUE=DATE:20171026
DTEND;VALUE=DATE:20171030
DTSTAMP:20260423T125716
CREATED:20170610T131906Z
LAST-MODIFIED:20171025T164126Z
UID:1811-1508976000-1509321599@ssoc.se
SUMMARY:ELMIA Scandinavian Horse Show
DESCRIPTION:SSOC bjuder sina medlemmar på lunchbuffé Lördagen den 28/10. \nRC Grill\nMässvägen 6 \nVälkomna från 12.00\, Lunch 12.30-14.30 \n– Kycklingfilé med potatisgratäng & rödvinssås\n– Pasta med Oxfile\, portabello\, pancetta\, pecorino\, vitlök och chili \nSallad\, bröd\, alkoholfria drycker och kaffe ingår. \nVill ni ta med gäster går det bra mot en kostnad av 175:-
URL:https://ssoc.se/event/elmia-scandinavian-horse-show/
LOCATION:ELMIA\, Elmiavägen 15\, Jönköping\, 554 54\, Sverige
CATEGORIES:Tävling
ATTACH;FMTTYPE=image/gif:https://ssoc.se/wp-content/uploads/1196-113_518px.gif
END:VEVENT
END:VCALENDAR