BEGIN:VCALENDAR
VERSION:2.0
PRODID:-//SSOC - ECPv6.15.20//NONSGML v1.0//EN
CALSCALE:GREGORIAN
METHOD:PUBLISH
X-WR-CALNAME:SSOC
X-ORIGINAL-URL:https://ssoc.se
X-WR-CALDESC:Händelser för SSOC
REFRESH-INTERVAL;VALUE=DURATION:PT1H
X-Robots-Tag:noindex
X-PUBLISHED-TTL:PT1H
BEGIN:VTIMEZONE
TZID:Europe/Stockholm
BEGIN:DAYLIGHT
TZOFFSETFROM:+0100
TZOFFSETTO:+0200
TZNAME:CEST
DTSTART:20160327T010000
END:DAYLIGHT
BEGIN:STANDARD
TZOFFSETFROM:+0200
TZOFFSETTO:+0100
TZNAME:CET
DTSTART:20161030T010000
END:STANDARD
BEGIN:DAYLIGHT
TZOFFSETFROM:+0100
TZOFFSETTO:+0200
TZNAME:CEST
DTSTART:20170326T010000
END:DAYLIGHT
BEGIN:STANDARD
TZOFFSETFROM:+0200
TZOFFSETTO:+0100
TZNAME:CET
DTSTART:20171029T010000
END:STANDARD
BEGIN:DAYLIGHT
TZOFFSETFROM:+0100
TZOFFSETTO:+0200
TZNAME:CEST
DTSTART:20180325T010000
END:DAYLIGHT
BEGIN:STANDARD
TZOFFSETFROM:+0200
TZOFFSETTO:+0100
TZNAME:CET
DTSTART:20181028T010000
END:STANDARD
END:VTIMEZONE
BEGIN:VEVENT
DTSTART;VALUE=DATE:20171110
DTEND;VALUE=DATE:20171113
DTSTAMP:20260423T111615
CREATED:20171025T165321Z
LAST-MODIFIED:20171030T190204Z
UID:1934-1510272000-1510531199@ssoc.se
SUMMARY:SM i Billdal
DESCRIPTION:Inomhus-SM för ponny 2-4 nov och för häst 10-12 nov hålls på Billdals fina och trevliga anläggning. SSOC-medlemmar är väldigt välkomna och har förstås fri entré\, tillgång till VIP-läktare samt fri parkering. \nNi kan enkelt visa upp er Pin för passage – anmälan till Pelle senast den 9:e November. \nINBJUDAN
URL:https://ssoc.se/event/sm-i-billdal/
LOCATION:Billdal\, Letsegårdsvägen 20\, Billdal\, 42740\, Sverige
CATEGORIES:Tävling
ATTACH;FMTTYPE=image/jpeg:https://ssoc.se/wp-content/uploads/Ridhus16x4-11.jpg
ORGANIZER;CN="Billdals Ridklubb":MAILTO:info@billdalsridklubb.com
END:VEVENT
END:VCALENDAR