BEGIN:VCALENDAR
VERSION:2.0
PRODID:-//SSOC - ECPv6.15.20//NONSGML v1.0//EN
CALSCALE:GREGORIAN
METHOD:PUBLISH
X-ORIGINAL-URL:https://ssoc.se
X-WR-CALDESC:Händelser för SSOC
REFRESH-INTERVAL;VALUE=DURATION:PT1H
X-Robots-Tag:noindex
X-PUBLISHED-TTL:PT1H
BEGIN:VTIMEZONE
TZID:Europe/Stockholm
BEGIN:DAYLIGHT
TZOFFSETFROM:+0100
TZOFFSETTO:+0200
TZNAME:CEST
DTSTART:20170326T010000
END:DAYLIGHT
BEGIN:STANDARD
TZOFFSETFROM:+0200
TZOFFSETTO:+0100
TZNAME:CET
DTSTART:20171029T010000
END:STANDARD
BEGIN:DAYLIGHT
TZOFFSETFROM:+0100
TZOFFSETTO:+0200
TZNAME:CEST
DTSTART:20180325T010000
END:DAYLIGHT
BEGIN:STANDARD
TZOFFSETFROM:+0200
TZOFFSETTO:+0100
TZNAME:CET
DTSTART:20181028T010000
END:STANDARD
BEGIN:DAYLIGHT
TZOFFSETFROM:+0100
TZOFFSETTO:+0200
TZNAME:CEST
DTSTART:20190331T010000
END:DAYLIGHT
BEGIN:STANDARD
TZOFFSETFROM:+0200
TZOFFSETTO:+0100
TZNAME:CET
DTSTART:20191027T010000
END:STANDARD
END:VTIMEZONE
BEGIN:VEVENT
DTSTART;TZID=Europe/Stockholm:20180506T090000
DTEND;TZID=Europe/Stockholm:20180506T120000
DTSTAMP:20260423T014001
CREATED:20180425T204500Z
LAST-MODIFIED:20180425T204500Z
UID:2109-1525597200-1525608000@ssoc.se
SUMMARY:Inspiration för unga ryttare med Patrik Kittel
DESCRIPTION:Vi vill slå ett slag för en inspirerande förmiddag under Patrik Kittel Dressage Tour. Detta är ett ypperligt utbildnings tillfälle och dessutom mycket trevligt för alla. Dessutom gratis för alla mellan 13-20 på förmiddagen. Vill man vara kvar på clinic på eftermiddagen kostar det 400:- \nDen 6 maj besöker Patrik Kittel Dressage Tour Billdals RK. I samband med clinicen arrangeras en innovativ inspirationsförmiddag för unga ryttare mellan 13-20 år med några av landets mest spännande ryttare. \nTa del av Lina Dolk och Patrik Kittels erfarenheter\, diskutera personlig utveckling och testa det innovativa projektet Hållbara Ryttare. \n\n\n09:00 – 09:20 Samling i ridhuset och introduktion \n09:30 – 10:45 Två stationer med workshop \nPersonlig utveckling: U25 ryttaren Lina Dolk \nHållbara Ryttare: Ett projektet som utvecklat 65 av våra bästa dressyrryttare \n11:00 – 11:30 Patrik Kittel berättar om sin resa från ponny till världseliten \n11:30 – 12:00 Avslutning och fotografering \nAnmälan: HÄR
URL:https://ssoc.se/event/inspiration-for-unga-ryttare-med-patrik-kittel/
LOCATION:Billdal\, Letsegårdsvägen 20\, Billdal\, 42740\, Sverige
CATEGORIES:Föredrag-övrigt
ATTACH;FMTTYPE=image/png:https://ssoc.se/wp-content/uploads/image.png
ORGANIZER;CN="Billdals Ridklubb":MAILTO:info@billdalsridklubb.com
END:VEVENT
BEGIN:VEVENT
DTSTART;VALUE=DATE:20180510
DTEND;VALUE=DATE:20180514
DTSTAMP:20260423T014001
CREATED:20180225T153942Z
LAST-MODIFIED:20180225T153942Z
UID:2085-1525910400-1526255999@ssoc.se
SUMMARY:7-star Hammarö
DESCRIPTION:Första omgången av årets 7-star Spring Tour.
URL:https://ssoc.se/event/7-star-hammaro/
LOCATION:Hammarö\, Sadelvägen 9\, Hammarö\, 663 42
CATEGORIES:Tävling
ATTACH;FMTTYPE=image/jpeg:https://ssoc.se/wp-content/uploads/IMG_4467.jpg
ORGANIZER;CN="wermland equestrian games":MAILTO:info@equalityline.se
END:VEVENT
BEGIN:VEVENT
DTSTART;VALUE=DATE:20180524
DTEND;VALUE=DATE:20180528
DTSTAMP:20260423T014001
CREATED:20180225T154650Z
LAST-MODIFIED:20180225T154650Z
UID:2090-1527120000-1527465599@ssoc.se
SUMMARY:7-star Norrköping
DESCRIPTION:Andra omgången av 7-star Spring Tour.
URL:https://ssoc.se/event/7-star-norrkoping/
LOCATION:Norrköping\, Jurslag Gård\, Åby\, 61634\, Sverige
CATEGORIES:Tävling
ATTACH;FMTTYPE=image/jpeg:https://ssoc.se/wp-content/uploads/DSC_9860.jpg
ORGANIZER;CN="Norrk%C3%B6ping Int Horse Show":MAILTO:info@norrkopinghorseshow.se
END:VEVENT
END:VCALENDAR