BEGIN:VCALENDAR
VERSION:2.0
PRODID:-//SSOC - ECPv6.15.20//NONSGML v1.0//EN
CALSCALE:GREGORIAN
METHOD:PUBLISH
X-WR-CALNAME:SSOC
X-ORIGINAL-URL:https://ssoc.se
X-WR-CALDESC:Händelser för SSOC
REFRESH-INTERVAL;VALUE=DURATION:PT1H
X-Robots-Tag:noindex
X-PUBLISHED-TTL:PT1H
BEGIN:VTIMEZONE
TZID:Europe/Stockholm
BEGIN:DAYLIGHT
TZOFFSETFROM:+0100
TZOFFSETTO:+0200
TZNAME:CEST
DTSTART:20170326T010000
END:DAYLIGHT
BEGIN:STANDARD
TZOFFSETFROM:+0200
TZOFFSETTO:+0100
TZNAME:CET
DTSTART:20171029T010000
END:STANDARD
BEGIN:DAYLIGHT
TZOFFSETFROM:+0100
TZOFFSETTO:+0200
TZNAME:CEST
DTSTART:20180325T010000
END:DAYLIGHT
BEGIN:STANDARD
TZOFFSETFROM:+0200
TZOFFSETTO:+0100
TZNAME:CET
DTSTART:20181028T010000
END:STANDARD
BEGIN:DAYLIGHT
TZOFFSETFROM:+0100
TZOFFSETTO:+0200
TZNAME:CEST
DTSTART:20190331T010000
END:DAYLIGHT
BEGIN:STANDARD
TZOFFSETFROM:+0200
TZOFFSETTO:+0100
TZNAME:CET
DTSTART:20191027T010000
END:STANDARD
END:VTIMEZONE
BEGIN:VEVENT
DTSTART;VALUE=DATE:20180614
DTEND;VALUE=DATE:20180618
DTSTAMP:20260423T001344
CREATED:20180225T155239Z
LAST-MODIFIED:20180225T155239Z
UID:2092-1528934400-1529279999@ssoc.se
SUMMARY:7-star Stockholm/Runsten
DESCRIPTION:Tredje omgången av 7-star Spring Tour.
URL:https://ssoc.se/event/7-star-stockholm-runsten/
LOCATION:Runsten\, Runstens Gård\, Grödinge\, 147 91\, Sverige
CATEGORIES:Tävling
ATTACH;FMTTYPE=image/jpeg:https://ssoc.se/wp-content/uploads/1167661_559169694119138_523331860_o.jpg
ORGANIZER;CN="Runsten Equestrian":MAILTO:info@runsten.com
END:VEVENT
BEGIN:VEVENT
DTSTART;VALUE=DATE:20180618
DTEND;VALUE=DATE:20180622
DTSTAMP:20260423T001344
CREATED:20180225T160114Z
LAST-MODIFIED:20180508T200506Z
UID:2095-1529280000-1529625599@ssoc.se
SUMMARY:7-star Göteborg/Åbytravet
DESCRIPTION:Fjärde omgången i 7-star Spring Tour.
URL:https://ssoc.se/event/7-star-goteborg-abytravet/
LOCATION:Åby Travbana\, Åbyvägen 2-12\, Göteborg\, 431 62\, Sverige
CATEGORIES:Tävling
ATTACH;FMTTYPE=image/jpeg:https://ssoc.se/wp-content/uploads/fjaras.jpg
ORGANIZER;CN="F%C3%B6reningen Fj%C3%A4r%C3%A5s Hoppryttare":MAILTO:gothenburgsummertour@gmail.com
END:VEVENT
END:VCALENDAR