BEGIN:VCALENDAR
VERSION:2.0
PRODID:-//SSOC - ECPv6.15.20//NONSGML v1.0//EN
CALSCALE:GREGORIAN
METHOD:PUBLISH
X-WR-CALNAME:SSOC
X-ORIGINAL-URL:https://ssoc.se
X-WR-CALDESC:Händelser för SSOC
REFRESH-INTERVAL;VALUE=DURATION:PT1H
X-Robots-Tag:noindex
X-PUBLISHED-TTL:PT1H
BEGIN:VTIMEZONE
TZID:Europe/Stockholm
BEGIN:DAYLIGHT
TZOFFSETFROM:+0100
TZOFFSETTO:+0200
TZNAME:CEST
DTSTART:20170326T010000
END:DAYLIGHT
BEGIN:STANDARD
TZOFFSETFROM:+0200
TZOFFSETTO:+0100
TZNAME:CET
DTSTART:20171029T010000
END:STANDARD
BEGIN:DAYLIGHT
TZOFFSETFROM:+0100
TZOFFSETTO:+0200
TZNAME:CEST
DTSTART:20180325T010000
END:DAYLIGHT
BEGIN:STANDARD
TZOFFSETFROM:+0200
TZOFFSETTO:+0100
TZNAME:CET
DTSTART:20181028T010000
END:STANDARD
BEGIN:DAYLIGHT
TZOFFSETFROM:+0100
TZOFFSETTO:+0200
TZNAME:CEST
DTSTART:20190331T010000
END:DAYLIGHT
BEGIN:STANDARD
TZOFFSETFROM:+0200
TZOFFSETTO:+0100
TZNAME:CET
DTSTART:20191027T010000
END:STANDARD
END:VTIMEZONE
BEGIN:VEVENT
DTSTART;TZID=Europe/Stockholm:20180902T123000
DTEND;TZID=Europe/Stockholm:20180902T133000
DTSTAMP:20260422T193408
CREATED:20180826T160443Z
LAST-MODIFIED:20180826T160638Z
UID:2213-1535891400-1535895000@ssoc.se
SUMMARY:SSOC-lunch i Norrköping - i höstens tecken
DESCRIPTION:Med härlig stämning\, god mat och perfekt sällskap så bjuder NiHS Claes Pettersson med tävlingsledning SSOC medlemmar välkomna till en gemensam lunch i restaurangtältet. Vi tjuvstartar hösten med planka kallskuret som förrätt\, en riktigt trevlig köttbit (eller alternativ) som varmrätt och valfri typ av dricka till detta. Köksmästare Daniel Ohlin med personal kommer att bjuda på bästa möjliga service och mat. \nParkering & entre är kostnadsfritt \nAnmälan enligt separat medlemsutskick.
URL:https://ssoc.se/event/ssoc-lunch-i-norrkoping-i-hostens-tecken/
LOCATION:Norrköping\, Jurslag Gård\, Åby\, 61634\, Sverige
CATEGORIES:Tävling
ATTACH;FMTTYPE=image/jpeg:https://ssoc.se/wp-content/uploads/DSC_9860.jpg
ORGANIZER;CN="Norrk%C3%B6ping Int Horse Show":MAILTO:info@norrkopinghorseshow.se
END:VEVENT
END:VCALENDAR