BEGIN:VCALENDAR
VERSION:2.0
PRODID:-//SSOC - ECPv6.15.20//NONSGML v1.0//EN
CALSCALE:GREGORIAN
METHOD:PUBLISH
X-ORIGINAL-URL:https://ssoc.se
X-WR-CALDESC:Händelser för SSOC
REFRESH-INTERVAL;VALUE=DURATION:PT1H
X-Robots-Tag:noindex
X-PUBLISHED-TTL:PT1H
BEGIN:VTIMEZONE
TZID:Europe/Stockholm
BEGIN:DAYLIGHT
TZOFFSETFROM:+0100
TZOFFSETTO:+0200
TZNAME:CEST
DTSTART:20170326T010000
END:DAYLIGHT
BEGIN:STANDARD
TZOFFSETFROM:+0200
TZOFFSETTO:+0100
TZNAME:CET
DTSTART:20171029T010000
END:STANDARD
BEGIN:DAYLIGHT
TZOFFSETFROM:+0100
TZOFFSETTO:+0200
TZNAME:CEST
DTSTART:20180325T010000
END:DAYLIGHT
BEGIN:STANDARD
TZOFFSETFROM:+0200
TZOFFSETTO:+0100
TZNAME:CET
DTSTART:20181028T010000
END:STANDARD
BEGIN:DAYLIGHT
TZOFFSETFROM:+0100
TZOFFSETTO:+0200
TZNAME:CEST
DTSTART:20190331T010000
END:DAYLIGHT
BEGIN:STANDARD
TZOFFSETFROM:+0200
TZOFFSETTO:+0100
TZNAME:CET
DTSTART:20191027T010000
END:STANDARD
END:VTIMEZONE
BEGIN:VEVENT
DTSTART;TZID=Europe/Stockholm:20181013T123000
DTEND;TZID=Europe/Stockholm:20181013T133000
DTSTAMP:20260422T181442
CREATED:20180819T194350Z
LAST-MODIFIED:20180826T171301Z
UID:2171-1539433800-1539437400@ssoc.se
SUMMARY:SSOC Elmia-lunch
DESCRIPTION:Stärkta av gensvaret från förra årets aktivitet så skapar vi nu något som vi hoppas blir en tradition. En lördags-lunch tillsammans med goda vänner och likasinnad. Tider och mat är detaljer som kommer att kompletteras inom kort\, men boka gärna upp datum och tid i era kalendrar så ni inte missar.
URL:https://ssoc.se/event/ssoc-bowling-middag-pa-elmia/
LOCATION:ELMIA\, Elmiavägen 15\, Jönköping\, 554 54\, Sverige
CATEGORIES:Tävling
ATTACH;FMTTYPE=image/jpeg:https://ssoc.se/wp-content/uploads/budning.jpg
ORGANIZER;CN="Scandinavian Horse Show":MAILTO:Carolina.axelsson@elmia.se
END:VEVENT
END:VCALENDAR