BEGIN:VCALENDAR
VERSION:2.0
PRODID:-//SSOC - ECPv6.15.20//NONSGML v1.0//EN
CALSCALE:GREGORIAN
METHOD:PUBLISH
X-ORIGINAL-URL:https://ssoc.se
X-WR-CALDESC:Händelser för SSOC
REFRESH-INTERVAL;VALUE=DURATION:PT1H
X-Robots-Tag:noindex
X-PUBLISHED-TTL:PT1H
BEGIN:VTIMEZONE
TZID:Europe/Stockholm
BEGIN:DAYLIGHT
TZOFFSETFROM:+0100
TZOFFSETTO:+0200
TZNAME:CEST
DTSTART:20180325T010000
END:DAYLIGHT
BEGIN:STANDARD
TZOFFSETFROM:+0200
TZOFFSETTO:+0100
TZNAME:CET
DTSTART:20181028T010000
END:STANDARD
BEGIN:DAYLIGHT
TZOFFSETFROM:+0100
TZOFFSETTO:+0200
TZNAME:CEST
DTSTART:20190331T010000
END:DAYLIGHT
BEGIN:STANDARD
TZOFFSETFROM:+0200
TZOFFSETTO:+0100
TZNAME:CET
DTSTART:20191027T010000
END:STANDARD
BEGIN:DAYLIGHT
TZOFFSETFROM:+0100
TZOFFSETTO:+0200
TZNAME:CEST
DTSTART:20200329T010000
END:DAYLIGHT
BEGIN:STANDARD
TZOFFSETFROM:+0200
TZOFFSETTO:+0100
TZNAME:CET
DTSTART:20201025T010000
END:STANDARD
END:VTIMEZONE
BEGIN:VEVENT
DTSTART;TZID=Europe/Stockholm:20190406T100000
DTEND;TZID=Europe/Stockholm:20190406T110000
DTSTAMP:20260422T082225
CREATED:20180225T195229Z
LAST-MODIFIED:20190215T121207Z
UID:2098-1554544800-1554548400@ssoc.se
SUMMARY:Årsmöte
DESCRIPTION:Dags för SSOCs 9:e årsmöte… \nKonferenslokal R11-R12 – en trappa upp från Hotell Gothias entréplan och sen till höger. \nKallelse och dagordning kommer att mailas ut till samtliga medlemmar.
URL:https://ssoc.se/event/arsmote/
LOCATION:Gothia Towers\, Mässans gata 24\, Göteborg\, 402 26\, Sverige
CATEGORIES:Årsmöte
ATTACH;FMTTYPE=image/png:https://ssoc.se/wp-content/uploads/Skärmklipp-2018-01-23-11.49.49.png
ORGANIZER;CN="Got Event":MAILTO:INFO@GOTHENBURG2017.COM
END:VEVENT
BEGIN:VEVENT
DTSTART;TZID=Europe/Stockholm:20190406T120000
DTEND;TZID=Europe/Stockholm:20190406T133000
DTSTAMP:20260422T082225
CREATED:20190215T121629Z
LAST-MODIFIED:20190328T201812Z
UID:2306-1554552000-1554557400@ssoc.se
SUMMARY:Årsmötesmingel med förbundet
DESCRIPTION:I anslutning till Göteborg Horse Show i Scandinavium har Svenska Ridsportförbundets hoppkommitté tillsammans med Swedish Showjumpers Owners Club nöjet att inbjuda Dig/Er som medlem i SSOC till ”mingel” lördagen den 6 april kl 12.00. \nVi träffas i loungen bredvid konferenslokal R11-R12 en trappa upp från Hotell Gothias entréplan och sen till höger. Till minglet kommer Carina Skoog från SOK tillsammans med våra förbundskaptener att beskriva hur de jobbar tillsammans\, med ledare\, hästägare m fl inför och under ett OS. Dessutom även Göran ”Yogi” Breisner som berättar om Tokyo\, dess miljö och klimat. \nVi bjuder på något gott att dricka med lite tilltugg. \nInbjudan gäller för två personer samt era ryttare \nO.S.A senast 29 mars till Pelle Wedenmark \ntfn +46 705 33 44 56  eller pellewedenmark@msn.com
URL:https://ssoc.se/event/arsmotesmingel-med-forbundet/
LOCATION:Gothia Towers\, Mässans gata 24\, Göteborg\, 402 26\, Sverige
CATEGORIES:Årsmöte,Föredrag-övrigt
ATTACH;FMTTYPE=image/jpeg:https://ssoc.se/wp-content/uploads/2018-02-24-12.23.18-1.jpg
ORGANIZER;CN="Got Event":MAILTO:INFO@GOTHENBURG2017.COM
END:VEVENT
BEGIN:VEVENT
DTSTART;VALUE=DATE:20190426
DTEND;VALUE=DATE:20190428
DTSTAMP:20260422T082225
CREATED:20190213T222952Z
LAST-MODIFIED:20190213T223321Z
UID:2279-1556236800-1556409599@ssoc.se
SUMMARY:Sundbyholm Spring Tour
DESCRIPTION:En öppen inbjudan från tävlingsledningen till VIP-tältet och en trevlig lunch under fredag eller lördag.
URL:https://ssoc.se/event/sundbuholm-spring-tour/
LOCATION:Sundbyholm\, Sundbyholms Travbana\, Eskilstuna\, 635 08\, Sverige
CATEGORIES:Tävling
ATTACH;FMTTYPE=image/jpeg:https://ssoc.se/wp-content/uploads/pederVM.jpg
ORGANIZER;CN="Sundbyholms Horse Center":MAILTO:info@sundbyholmridsport.com
END:VEVENT
END:VCALENDAR