BEGIN:VCALENDAR
VERSION:2.0
PRODID:-//SSOC - ECPv6.15.20//NONSGML v1.0//EN
CALSCALE:GREGORIAN
METHOD:PUBLISH
X-ORIGINAL-URL:https://ssoc.se
X-WR-CALDESC:Händelser för SSOC
REFRESH-INTERVAL;VALUE=DURATION:PT1H
X-Robots-Tag:noindex
X-PUBLISHED-TTL:PT1H
BEGIN:VTIMEZONE
TZID:Europe/Stockholm
BEGIN:DAYLIGHT
TZOFFSETFROM:+0100
TZOFFSETTO:+0200
TZNAME:CEST
DTSTART:20180325T010000
END:DAYLIGHT
BEGIN:STANDARD
TZOFFSETFROM:+0200
TZOFFSETTO:+0100
TZNAME:CET
DTSTART:20181028T010000
END:STANDARD
BEGIN:DAYLIGHT
TZOFFSETFROM:+0100
TZOFFSETTO:+0200
TZNAME:CEST
DTSTART:20190331T010000
END:DAYLIGHT
BEGIN:STANDARD
TZOFFSETFROM:+0200
TZOFFSETTO:+0100
TZNAME:CET
DTSTART:20191027T010000
END:STANDARD
BEGIN:DAYLIGHT
TZOFFSETFROM:+0100
TZOFFSETTO:+0200
TZNAME:CEST
DTSTART:20200329T010000
END:DAYLIGHT
BEGIN:STANDARD
TZOFFSETFROM:+0200
TZOFFSETTO:+0100
TZNAME:CET
DTSTART:20201025T010000
END:STANDARD
END:VTIMEZONE
BEGIN:VEVENT
DTSTART;VALUE=DATE:20191030
DTEND;VALUE=DATE:20191104
DTSTAMP:20260421T212727
CREATED:20190918T144230Z
LAST-MODIFIED:20190918T144230Z
UID:2418-1572393600-1572825599@ssoc.se
SUMMARY:Jönköping Horse Show\, SSOC på Elmia
DESCRIPTION:Stärkta av gensvaret från förra årets aktivitet så skapar vi nu något som vi hoppas blir en tradition. En lördags-lunch tillsammans med goda vänner och likasinnade. Tider och mat är detaljer som kommer att kompletteras inom kort\, men boka gärna upp datum och tid i era kalendrar så ni inte missar.
URL:https://ssoc.se/event/jonkoping-horse-show-ssoc-pa-elmia/
LOCATION:ELMIA\, Elmiavägen 15\, Jönköping\, 554 54\, Sverige
CATEGORIES:Tävling
ATTACH;FMTTYPE=image/png:https://ssoc.se/wp-content/uploads/Skärmavbild-2019-09-18-kl.-16.39.39.png
ORGANIZER;CN="Scandinavian Horse Event Production":MAILTO:kontor@jonkopinghorseshow.com
END:VEVENT
BEGIN:VEVENT
DTSTART;VALUE=DATE:20191108
DTEND;VALUE=DATE:20191111
DTSTAMP:20260421T212727
CREATED:20190918T144936Z
LAST-MODIFIED:20190918T145004Z
UID:2422-1573171200-1573430399@ssoc.se
SUMMARY:Inomhus-SM Södertälje
DESCRIPTION:Det vankas SM i hoppning på Södertälje ridklubb vecka 44 och 45. Kom och upplev svensk hästhoppning när den är som bäst på en av Sveriges största ridklubbar. Välkommen på fartfyllda SM-veckor i hästhoppningens tecken hos oss på Södertälje ridklubb. Det är gratis inträde alla dagar.\n\n\n8-10 november SM i hoppning inomhus för senior\, young rider & junior.\n\n\nPå plats på anläggningen finns både restaurang\, café\, utställare och något för de minsta. Något för alla helt enkelt.
URL:https://ssoc.se/event/inomhus-sm-sodertalje/
LOCATION:Södertälje Ridklubb\, Åtorp Lina\, Södertälje\, 151 57\, Sverige
CATEGORIES:Tävling
ATTACH;FMTTYPE=image/jpeg:https://ssoc.se/wp-content/uploads/1200x628.jpg
ORGANIZER;CN="S%C3%B6dert%C3%A4lje Rdiklubb":MAILTO:anneliegradin@hotmail.com
END:VEVENT
BEGIN:VEVENT
DTSTART;VALUE=DATE:20191128
DTEND;VALUE=DATE:20191202
DTSTAMP:20260421T212727
CREATED:20181118T152040Z
LAST-MODIFIED:20190918T145526Z
UID:2246-1574899200-1575244799@ssoc.se
SUMMARY:Vi syns på Friends
DESCRIPTION:Delar av styrelsen kommer att vara på plats\, det kommer att vara möten med hästägare\, gemensamt träffa sponsorer och ryttare om ni vill. Vi kommer att informera er med våra medlemsutskick om vad som kommer att hända under tävlingsdagarna.
URL:https://ssoc.se/event/vi-syns-pa-friends/
LOCATION:Friends Arena\, Råsta Strandväg 1\, Solna\, 169 79\, Sverige
CATEGORIES:Tävling
ATTACH;FMTTYPE=image/png:https://ssoc.se/wp-content/uploads/Skaermavbild-2015-11-30-kl.-17.52.23.png
ORGANIZER;CN="Sweden International Horse SHow":MAILTO:biljett@friendsarena.se
END:VEVENT
END:VCALENDAR