BEGIN:VCALENDAR
VERSION:2.0
PRODID:-//SSOC - ECPv6.15.20//NONSGML v1.0//EN
CALSCALE:GREGORIAN
METHOD:PUBLISH
X-WR-CALNAME:SSOC
X-ORIGINAL-URL:https://ssoc.se
X-WR-CALDESC:Händelser för SSOC
REFRESH-INTERVAL;VALUE=DURATION:PT1H
X-Robots-Tag:noindex
X-PUBLISHED-TTL:PT1H
BEGIN:VTIMEZONE
TZID:Europe/Stockholm
BEGIN:DAYLIGHT
TZOFFSETFROM:+0100
TZOFFSETTO:+0200
TZNAME:CEST
DTSTART:20190331T010000
END:DAYLIGHT
BEGIN:STANDARD
TZOFFSETFROM:+0200
TZOFFSETTO:+0100
TZNAME:CET
DTSTART:20191027T010000
END:STANDARD
BEGIN:DAYLIGHT
TZOFFSETFROM:+0100
TZOFFSETTO:+0200
TZNAME:CEST
DTSTART:20200329T010000
END:DAYLIGHT
BEGIN:STANDARD
TZOFFSETFROM:+0200
TZOFFSETTO:+0100
TZNAME:CET
DTSTART:20201025T010000
END:STANDARD
BEGIN:DAYLIGHT
TZOFFSETFROM:+0100
TZOFFSETTO:+0200
TZNAME:CEST
DTSTART:20210328T010000
END:DAYLIGHT
BEGIN:STANDARD
TZOFFSETFROM:+0200
TZOFFSETTO:+0100
TZNAME:CET
DTSTART:20211031T010000
END:STANDARD
END:VTIMEZONE
BEGIN:VEVENT
DTSTART;TZID=Europe/Stockholm:20200209T113000
DTEND;TZID=Europe/Stockholm:20200209T130000
DTSTAMP:20260421T163409
CREATED:20191215T135016Z
LAST-MODIFIED:20191215T135016Z
UID:2454-1581247800-1581253200@ssoc.se
SUMMARY:Borås Grand Prix
DESCRIPTION:Vi syns i minglet med en gemensam lunch mellan söndagens alla finaller. Ytterligare information kommer att skickas ut till alla medlemmar runt vecka 3-4.
URL:https://ssoc.se/event/boras-grand-prix/
LOCATION:Borås  Ridhus\, Varbergsvägen 65\, Borås\, 504 93
CATEGORIES:Tävling
ATTACH;FMTTYPE=image/png:https://ssoc.se/wp-content/uploads/borås2020.png
END:VEVENT
END:VCALENDAR