BEGIN:VCALENDAR
VERSION:2.0
PRODID:-//SSOC - ECPv6.15.20//NONSGML v1.0//EN
CALSCALE:GREGORIAN
METHOD:PUBLISH
X-ORIGINAL-URL:https://ssoc.se
X-WR-CALDESC:Händelser för SSOC
REFRESH-INTERVAL;VALUE=DURATION:PT1H
X-Robots-Tag:noindex
X-PUBLISHED-TTL:PT1H
BEGIN:VTIMEZONE
TZID:Europe/Stockholm
BEGIN:DAYLIGHT
TZOFFSETFROM:+0100
TZOFFSETTO:+0200
TZNAME:CEST
DTSTART:20190331T010000
END:DAYLIGHT
BEGIN:STANDARD
TZOFFSETFROM:+0200
TZOFFSETTO:+0100
TZNAME:CET
DTSTART:20191027T010000
END:STANDARD
BEGIN:DAYLIGHT
TZOFFSETFROM:+0100
TZOFFSETTO:+0200
TZNAME:CEST
DTSTART:20200329T010000
END:DAYLIGHT
BEGIN:STANDARD
TZOFFSETFROM:+0200
TZOFFSETTO:+0100
TZNAME:CET
DTSTART:20201025T010000
END:STANDARD
BEGIN:DAYLIGHT
TZOFFSETFROM:+0100
TZOFFSETTO:+0200
TZNAME:CEST
DTSTART:20210328T010000
END:DAYLIGHT
BEGIN:STANDARD
TZOFFSETFROM:+0200
TZOFFSETTO:+0100
TZNAME:CET
DTSTART:20211031T010000
END:STANDARD
END:VTIMEZONE
BEGIN:VEVENT
DTSTART;VALUE=DATE:20200425
DTEND;VALUE=DATE:20200427
DTSTAMP:20260421T133045
CREATED:20191215T135926Z
LAST-MODIFIED:20191215T140029Z
UID:2461-1587772800-1587945599@ssoc.se
SUMMARY:Sundbyholm Spring Tour 2020
DESCRIPTION:En öppen inbjudan från tävlingsledningen till VIP-tältet och en trevlig lunch under fredag eller lördag.
URL:https://ssoc.se/event/sundbyholm-spring-tour-2020/
LOCATION:Sundbyholm\, Sundbyholms Travbana\, Eskilstuna\, 635 08\, Sverige
CATEGORIES:Tävling
ATTACH;FMTTYPE=image/png:https://ssoc.se/wp-content/uploads/Skärmklipp-2016-08-08-21.27.31.png
ORGANIZER;CN="Sundbyholms Horse Center":MAILTO:info@sundbyholmridsport.com
END:VEVENT
END:VCALENDAR